BEGIN:VCALENDAR
VERSION:2.0
PRODID:-//New York - ECPv6.15.20//NONSGML v1.0//EN
CALSCALE:GREGORIAN
METHOD:PUBLISH
X-WR-CALNAME:New York
X-ORIGINAL-URL:https://newyork.cisvusa.org
X-WR-CALDESC:Events for New York
REFRESH-INTERVAL;VALUE=DURATION:PT1H
X-Robots-Tag:noindex
X-PUBLISHED-TTL:PT1H
BEGIN:VTIMEZONE
TZID:America/New_York
BEGIN:DAYLIGHT
TZOFFSETFROM:-0500
TZOFFSETTO:-0400
TZNAME:EDT
DTSTART:20250309T070000
END:DAYLIGHT
BEGIN:STANDARD
TZOFFSETFROM:-0400
TZOFFSETTO:-0500
TZNAME:EST
DTSTART:20251102T060000
END:STANDARD
BEGIN:DAYLIGHT
TZOFFSETFROM:-0500
TZOFFSETTO:-0400
TZNAME:EDT
DTSTART:20260308T070000
END:DAYLIGHT
BEGIN:STANDARD
TZOFFSETFROM:-0400
TZOFFSETTO:-0500
TZNAME:EST
DTSTART:20261101T060000
END:STANDARD
BEGIN:DAYLIGHT
TZOFFSETFROM:-0500
TZOFFSETTO:-0400
TZNAME:EDT
DTSTART:20270314T070000
END:DAYLIGHT
BEGIN:STANDARD
TZOFFSETFROM:-0400
TZOFFSETTO:-0500
TZNAME:EST
DTSTART:20271107T060000
END:STANDARD
END:VTIMEZONE
BEGIN:VEVENT
DTSTART;TZID=America/New_York:20260606T120000
DTEND;TZID=America/New_York:20260606T160000
DTSTAMP:20260420T152008
CREATED:20240126T172601Z
LAST-MODIFIED:20251107T153652Z
UID:10000061-1780747200-1780761600@newyork.cisvusa.org
SUMMARY:Summer Chapter Party
DESCRIPTION:🌞 CISV New York Summer Chapter Party!\nSunday\, June 6 | Cortlandt Manor\, NY \n  \nLet’s kick off the summer together! \n Join fellow CISV NY members\, families\, and friends for an afternoon of food\, fun\, and community. Celebrate all we’ve accomplished this year — and connect across cultures before our programs take off! \n🎉 Who’s Invited\nEveryone in the CISV NY community — members\, alums\, families\, and friends. \n Whether you’re traveling with a program or staying local this summer\, you’re part of the celebration! \n🍽️ Food with Purpose: Global Picnic Potluck\nLet’s celebrate diversity and reduce food waste! Bring a dish inspired by a culture you connect with — your own heritage or a culture you want to explore. We will arrange the dishes to balance the menu and ensure we have enough for 6–8 people. \n\nLast names A–G: Mains / Entrées\nLast names H–M: Snacks / Appetizers\nLast names N–S: Sides / Salads\nLast names T–Z: Desserts\n\n👉 To help coordinate and avoid repeats\, please fill out this short [Google Form] (food + carpool coordination). \n🧑‍🤝‍🧑 Carpool & Connection\nLet’s travel together! If you can offer or need a ride\, indicate it in the form — we’ll help match drivers and passengers. \n🏖️ Don’t Forget\nThere’s a pool! \n Bring your bathing suit\, towel\, sunscreen\, and plenty of good energy. \n👕 Merch & Memories\nThe Junior Branch will be selling CISV NY gear — shirts\, hoodies\, and more — perfect for trading or gifting. \n🚆 Getting There\n212 Furnace Dock Road\, Cortlandt Manor\, NY. \nBy Train: \n\nTake the Metro-North Hudson Line from Grand Central to Croton-Harmon Station (about 50 min).\nSit on the left side for the best Hudson River views!\nThe house is a 10-minute taxi or carpool ride from the station.\n\nBy Car: \n\nPark on Brook Lane (perpendicular to the host’s house).\nCoordinate rides through the Google Form to reduce cars and carbon emissions!\n\n💬 Questions?\nPlease email us at newyork@cisvusa.org
URL:https://newyork.cisvusa.org/event/summer-chapter-party/
LOCATION:Miller’s House\, 212 Furnace Dock Road\, Cortlandt Manor\, NY\, 10567\, United States
GEO:41.2423803;-73.8945769
X-APPLE-STRUCTURED-LOCATION;VALUE=URI;X-ADDRESS=Miller’s House 212 Furnace Dock Road Cortlandt Manor NY 10567 United States;X-APPLE-RADIUS=500;X-TITLE=212 Furnace Dock Road:geo:-73.8945769,41.2423803
END:VEVENT
END:VCALENDAR