BEGIN:VCALENDAR
VERSION:2.0
PRODID:-//New York - ECPv6.15.20//NONSGML v1.0//EN
CALSCALE:GREGORIAN
METHOD:PUBLISH
X-WR-CALNAME:New York
X-ORIGINAL-URL:https://newyork.cisvusa.org
X-WR-CALDESC:Events for New York
REFRESH-INTERVAL;VALUE=DURATION:PT1H
X-Robots-Tag:noindex
X-PUBLISHED-TTL:PT1H
BEGIN:VTIMEZONE
TZID:America/New_York
BEGIN:DAYLIGHT
TZOFFSETFROM:-0500
TZOFFSETTO:-0400
TZNAME:EDT
DTSTART:20170312T070000
END:DAYLIGHT
BEGIN:STANDARD
TZOFFSETFROM:-0400
TZOFFSETTO:-0500
TZNAME:EST
DTSTART:20171105T060000
END:STANDARD
BEGIN:DAYLIGHT
TZOFFSETFROM:-0500
TZOFFSETTO:-0400
TZNAME:EDT
DTSTART:20180311T070000
END:DAYLIGHT
BEGIN:STANDARD
TZOFFSETFROM:-0400
TZOFFSETTO:-0500
TZNAME:EST
DTSTART:20181104T060000
END:STANDARD
BEGIN:DAYLIGHT
TZOFFSETFROM:-0500
TZOFFSETTO:-0400
TZNAME:EDT
DTSTART:20190310T070000
END:DAYLIGHT
BEGIN:STANDARD
TZOFFSETFROM:-0400
TZOFFSETTO:-0500
TZNAME:EST
DTSTART:20191103T060000
END:STANDARD
BEGIN:DAYLIGHT
TZOFFSETFROM:-0500
TZOFFSETTO:-0400
TZNAME:EDT
DTSTART:20200308T070000
END:DAYLIGHT
BEGIN:STANDARD
TZOFFSETFROM:-0400
TZOFFSETTO:-0500
TZNAME:EST
DTSTART:20201101T060000
END:STANDARD
BEGIN:DAYLIGHT
TZOFFSETFROM:-0500
TZOFFSETTO:-0400
TZNAME:EDT
DTSTART:20210314T070000
END:DAYLIGHT
BEGIN:STANDARD
TZOFFSETFROM:-0400
TZOFFSETTO:-0500
TZNAME:EST
DTSTART:20211107T060000
END:STANDARD
BEGIN:DAYLIGHT
TZOFFSETFROM:-0500
TZOFFSETTO:-0400
TZNAME:EDT
DTSTART:20220313T070000
END:DAYLIGHT
BEGIN:STANDARD
TZOFFSETFROM:-0400
TZOFFSETTO:-0500
TZNAME:EST
DTSTART:20221106T060000
END:STANDARD
BEGIN:DAYLIGHT
TZOFFSETFROM:-0500
TZOFFSETTO:-0400
TZNAME:EDT
DTSTART:20230312T070000
END:DAYLIGHT
BEGIN:STANDARD
TZOFFSETFROM:-0400
TZOFFSETTO:-0500
TZNAME:EST
DTSTART:20231105T060000
END:STANDARD
BEGIN:DAYLIGHT
TZOFFSETFROM:-0500
TZOFFSETTO:-0400
TZNAME:EDT
DTSTART:20240310T070000
END:DAYLIGHT
BEGIN:STANDARD
TZOFFSETFROM:-0400
TZOFFSETTO:-0500
TZNAME:EST
DTSTART:20241103T060000
END:STANDARD
END:VTIMEZONE
BEGIN:VEVENT
DTSTART;TZID=America/New_York:20230611T120000
DTEND;TZID=America/New_York:20230611T160000
DTSTAMP:20260420T131152
CREATED:20230504T143923Z
LAST-MODIFIED:20230910T201530Z
UID:10000002-1686484800-1686499200@newyork.cisvusa.org
SUMMARY:Chapter Open House - Summer Party!
DESCRIPTION:Join Us at the Chapter Open House and the Annual Summer Party! \nOn Sunday\, June 11th. Let’s get together as a chapter and celebrate all we’ve accomplished so far. \nThere will be presentations\, energizers\, games\, and lots of fun! \n\nBring picnic dishes to share!\nBring your bathing suit!\n\nHosts: \nCISV NY members are generously hosting the chapter at their home in Cortlandt Manor\, NY.\nAddress: 212 Furnace Dock Road\, Cortlandt Manor\, NY 10567. \nIf you’re taking the train\, plan to: \n\nGet Metro North train at Grand Central Station.\nTake Hudson Line (green signs) to Croton Harmon Station (ride is beautiful; sit on left side of car to get best view of Hudson River).\nSchedule: check https://new.mta.info/agency/metro-north-railroad/schedules. Be sure to look at “Weekend / Holiday” schedule if available. You can also plan your trip here: https://new.mta.info/schedules.\nTrip takes approximately 50 minutes depending on train.\n10 minute taxi drive from the train station.
URL:https://newyork.cisvusa.org/event/bon-voyage-party-2023-2/
LOCATION:Miller’s House\, 212 Furnace Dock Road\, Cortlandt Manor\, NY\, 10567\, United States
GEO:41.2423803;-73.8945769
X-APPLE-STRUCTURED-LOCATION;VALUE=URI;X-ADDRESS=Miller’s House 212 Furnace Dock Road Cortlandt Manor NY 10567 United States;X-APPLE-RADIUS=500;X-TITLE=212 Furnace Dock Road:geo:-73.8945769,41.2423803
END:VEVENT
BEGIN:VEVENT
DTSTART;TZID=America/New_York:20200531T130000
DTEND;TZID=America/New_York:20200531T163000
DTSTAMP:20260420T131152
CREATED:20191015T140111Z
LAST-MODIFIED:20200225T212958Z
UID:10000043-1590930000-1590942600@newyork.cisvusa.org
SUMMARY:Bon Voyage Party 2020
DESCRIPTION:Our Annual Potluck BON VOYAGE! PARTY is on Sunday\, May 31st from 1:00pm-4:30pm. We will collectively wish good luck to all delegates traveling this summer. There will be energizers\, games and lots of fun!!! \n\nPlease bring a picnic dish for 8-12\nVillage: Bring an appetizer\nStep Up\, Interchange: Bring an entrée\nJCs\, Seminar and Youth Camp: Bring dessert\nKids! Don’t forget your bathing suits!\n\nHosts: \nArnold & Marilyn Miller\n212 Furnace Dock Road\nCortlandt Manor\, New York 10567\nHome: 914-739-9271 \nIf you’re taking the train: \n\nGet train at Grand Central Station\nTake Hudson Line-(green signs) to Croton Harmon Station (ride is beautiful-sit on left side of car to get best view of Hudson River)\nSchedule:  check www.metronorth.com. Be sure to look at “Week-end/ Holiday”\nTrip takes approximately 50 minutes depending on train\n10 minute taxi drive from the train station.-Cost about $10 for one person–$2.00 each additional person.\n\nIf you’re driving: \n\nGet to West Side Highway North\nWest Side Highway will become Henry Hudson Parkway North\nTake Henry Hudson Parkway to Saw Mill Parkway\n(HH Pky runs into Saw Mill Pkwy)\nStay on Saw Mill Pkwy\, exit at Hawthorn exit (this is next exit after Eastview Exit)\nAt traffic light turn left on to Route 9A north\nStay on Route 9A north\, Pass Briarcliff\, and Ossining\nGo down steep hill\, at this point Route 9A and Route 9 merge\nStay on Route 9 north\nExit at Montrose/ Buchanen (this is one exit after Senesqua Road exit)\nAt traffic light turn right\, go several hundred feet to Watergate Motel\nTurn left on to Furnace Dock Road\nAt lake on left turn left\, go to stop sign (Do not go over steel bridge)\nTurn right at stop sign\nFourth driveway on left\, the first house you can see\nWhite house\, white picket fence\, electric gate\nPlease park on Brook Lane which is perpendicular to Miller house\n\n 
URL:https://newyork.cisvusa.org/event/bon-voyage-party-2020/
LOCATION:Miller’s House\, 212 Furnace Dock Road\, Cortlandt Manor\, NY\, 10567\, United States
ATTACH;FMTTYPE=image/jpeg:https://newyork.cisvusa.org/wp-content/uploads/sites/5/2018/04/Bon-Voyage-e1525714249102.jpg
GEO:41.2423803;-73.8945769
X-APPLE-STRUCTURED-LOCATION;VALUE=URI;X-ADDRESS=Miller’s House 212 Furnace Dock Road Cortlandt Manor NY 10567 United States;X-APPLE-RADIUS=500;X-TITLE=212 Furnace Dock Road:geo:-73.8945769,41.2423803
END:VEVENT
BEGIN:VEVENT
DTSTART;TZID=America/New_York:20190623T130000
DTEND;TZID=America/New_York:20190623T170000
DTSTAMP:20260420T131152
CREATED:20190220T150431Z
LAST-MODIFIED:20190220T162127Z
UID:10000036-1561294800-1561309200@newyork.cisvusa.org
SUMMARY:Bon Voyage Party 2019
DESCRIPTION:Our Annual Potluck BON VOYAGE! PARTY is on Sunday\, June 23rd from 1:00pm-5:00pm. We will collectively wish good luck to all delegates traveling this summer. There will be energizers\, games and lots of fun!!! \n\nPlease bring a picnic dish for 8-12\nVillage: Bring an appetizer\nStep Up\, Interchange: Bring an entrée\nJCs\, Seminar and Youth Camp: Bring dessert\nKids! Don’t forget your bathing suits!\n\nHosts: \nArnold & Marilyn Miller\n212 Furnace Dock Road\nCortlandt Manor\, New York 10567\nHome: 914-739-9271 \nIf you’re taking the train: \n\nGet train at Grand Central Station\nTake Hudson Line-(green signs) to Croton Harmon Station (ride is beautiful-sit on left side of car to get best view of Hudson River)\nSchedule:  check www.metronorth.com. Be sure to look at “Week-end/ Holiday”\nTrip takes approximately 50 minutes depending on train\n10 minute taxi drive from the train station.-Cost about $10 for one person–$2.00 each additional person.\n\nIf you’re driving: \n\nGet to West Side Highway North\nWest Side Highway will become Henry Hudson Parkway North\nTake Henry Hudson Parkway to Saw Mill Parkway\n(HH Pky runs into Saw Mill Pkwy)\nStay on Saw Mill Pkwy\, exit at Hawthorn exit (this is next exit after Eastview Exit)\nAt traffic light turn left on to Route 9A north\nStay on Route 9A north\, Pass Briarcliff\, and Ossining\nGo down steep hill\, at this point Route 9A and Route 9 merge\nStay on Route 9 north\nExit at Montrose/ Buchanen (this is one exit after Senesqua Road exit)\nAt traffic light turn right\, go several hundred feet to Watergate Motel\nTurn left on to Furnace Dock Road\nAt lake on left turn left\, go to stop sign (Do not go over steel bridge)\nTurn right at stop sign\nFourth driveway on left\, the first house you can see\nWhite house\, white picket fence\, electric gate\nPlease park on Brook Lane which is perpendicular to Miller house\n\n 
URL:https://newyork.cisvusa.org/event/bon-voyage-party-2019/
LOCATION:Miller’s House\, 212 Furnace Dock Road\, Cortlandt Manor\, NY\, 10567\, United States
ATTACH;FMTTYPE=image/jpeg:https://newyork.cisvusa.org/wp-content/uploads/sites/5/2018/04/Bon-Voyage-e1525714249102.jpg
GEO:41.2423803;-73.8945769
X-APPLE-STRUCTURED-LOCATION;VALUE=URI;X-ADDRESS=Miller’s House 212 Furnace Dock Road Cortlandt Manor NY 10567 United States;X-APPLE-RADIUS=500;X-TITLE=212 Furnace Dock Road:geo:-73.8945769,41.2423803
END:VEVENT
BEGIN:VEVENT
DTSTART;TZID=America/New_York:20180610T133000
DTEND;TZID=America/New_York:20180610T163000
DTSTAMP:20260420T131152
CREATED:20180425T154037Z
LAST-MODIFIED:20180507T173103Z
UID:10000021-1528637400-1528648200@newyork.cisvusa.org
SUMMARY:Bon Voyage! Party
DESCRIPTION:Our Annual Potluck BON VOYAGE! PARTY is on Sunday\, June 10th from 1:30pm-4:30pm. We will collectively wish good luck to all delegates traveling this summer. There will be energizers\, games and lots of fun!!! \n\nPlease bring a picnic dish for 8-12\nVillage: Bring an appetizer\,\nStep Up\, Interchange: Bring an entrée\,\nJCs\, Seminar and Youth Camp: Bring dessert\nAnd don’t forget your bathing suits!\n\nHosts: \nArnold & Marilyn Miller\n212 Furnace Dock Road\nCortlandt Manor\, New York 10567\nHome: 914-739-9271 \nIf you’re taking the train: \n\nGet train at Grand Central Station\nTake Hudson Line-(green signs) to Croton Harmon Station (ride is beautiful-sit on left side of car to get best view of Hudson River)\nSchedule:  check www.metronorth.com. Be sure to look at “Week-end/ Holiday”\nTrip takes approximately 50 minutes depending on train\n10 minute taxi drive from the train station.-Cost about $10 for one person–$2.00 each additional person.\n\nIf you’re driving: \n\nGet to West Side Highway North\nWest Side Highway will become Henry Hudson Parkway North\nTake Henry Hudson Parkway to Saw Mill Parkway\n(HH Pky runs into Saw Mill Pkwy)\nStay on Saw Mill Pkwy\, exit at Hawthorn exit (this is next exit after Eastview Exit)\nAt traffic light turn left on to Route 9A north\nStay on Route 9A north\, Pass Briarcliff\, and Ossining\nGo down steep hill\, at this point Route 9A and Route 9 merge\nStay on Route 9 north\nExit at Montrose/ Buchanen (this is one exit after Senesqua Road exit)\nAt traffic light turn right\, go several hundred feet to Watergate Motel\nTurn left on to Furnace Dock Road\nAt lake on left turn left\, go to stop sign (Do not go over steel bridge)\nTurn right at stop sign\nFourth driveway on left\, the first house you can see\nWhite house\, white picket fence\, electric gate\nPlease park on Brook Lane which is perpendicular to Miller house\n\n 
URL:https://newyork.cisvusa.org/event/bon-voyage-party/
LOCATION:Miller’s House\, 212 Furnace Dock Road\, Cortlandt Manor\, NY\, 10567\, United States
ATTACH;FMTTYPE=image/jpeg:https://newyork.cisvusa.org/wp-content/uploads/sites/5/2018/04/Bon-Voyage-e1525714249102.jpg
GEO:41.2423803;-73.8945769
X-APPLE-STRUCTURED-LOCATION;VALUE=URI;X-ADDRESS=Miller’s House 212 Furnace Dock Road Cortlandt Manor NY 10567 United States;X-APPLE-RADIUS=500;X-TITLE=212 Furnace Dock Road:geo:-73.8945769,41.2423803
END:VEVENT
END:VCALENDAR