BEGIN:VCALENDAR
VERSION:2.0
PRODID:-//New York - ECPv6.15.20//NONSGML v1.0//EN
CALSCALE:GREGORIAN
METHOD:PUBLISH
X-WR-CALNAME:New York
X-ORIGINAL-URL:https://newyork.cisvusa.org
X-WR-CALDESC:Events for New York
REFRESH-INTERVAL;VALUE=DURATION:PT1H
X-Robots-Tag:noindex
X-PUBLISHED-TTL:PT1H
BEGIN:VTIMEZONE
TZID:America/New_York
BEGIN:DAYLIGHT
TZOFFSETFROM:-0500
TZOFFSETTO:-0400
TZNAME:EDT
DTSTART:20220313T070000
END:DAYLIGHT
BEGIN:STANDARD
TZOFFSETFROM:-0400
TZOFFSETTO:-0500
TZNAME:EST
DTSTART:20221106T060000
END:STANDARD
BEGIN:DAYLIGHT
TZOFFSETFROM:-0500
TZOFFSETTO:-0400
TZNAME:EDT
DTSTART:20230312T070000
END:DAYLIGHT
BEGIN:STANDARD
TZOFFSETFROM:-0400
TZOFFSETTO:-0500
TZNAME:EST
DTSTART:20231105T060000
END:STANDARD
BEGIN:DAYLIGHT
TZOFFSETFROM:-0500
TZOFFSETTO:-0400
TZNAME:EDT
DTSTART:20240310T070000
END:DAYLIGHT
BEGIN:STANDARD
TZOFFSETFROM:-0400
TZOFFSETTO:-0500
TZNAME:EST
DTSTART:20241103T060000
END:STANDARD
END:VTIMEZONE
BEGIN:VEVENT
DTSTART;TZID=America/New_York:20231112T130000
DTEND;TZID=America/New_York:20231112T150000
DTSTAMP:20260426T003330
CREATED:20190826T151833Z
LAST-MODIFIED:20231110T190651Z
UID:10000040-1699794000-1699801200@newyork.cisvusa.org
SUMMARY:2024 Programs Information Session
DESCRIPTION:Are you searching for unique\, fun\, and inspiring experiences for you and your children?\nThe CISV New York chapter has something for everyone!\nJoin us in Manhattan on November 12th at 1 PM for the 2024 Programs Information Session. CISV New York is run by a committed group of volunteers who believe in its mission: to educate and inspire action for a more just and peaceful world. \nThis event is open to people of all ages and will give you the opportunity to learn about the amazing summer and winter programs\, activities\, and events offered by CISV New York. You will also learn how to get involved and volunteer to help the chapter\, while socializing with other CISVers. The Junior Branch Board will be hosting additional activities to make your experience even more enjoyable. \nOur 2024 programs cater to all age groups\, from ages 10 to 17 for participants\, 18-20 for junior staff and volunteer positions\, and 21+ for adult leaders\, staff\, and volunteers. \nDuring the event\, we will cover the following topics: \n\nWhat is CISV?\nWhen and why was CISV founded?\nWhat does the New York Chapter do and offer?\nWhat Summer and Winter Programs are available?\nWhat are the age groups for the different Summer and Winter Programs?\nWhen and where will the Summer and Winter Programs be held?\nWhat is the cost of the Summer and Winter Programs?\nDoes CISV New York offer financial aid or a payment plan?\nHow to volunteer and help the chapter produce more local programs\, activities\, and events?\n\nCISV New York is thrilled to welcome you to this event! \nPlease remember to bring identification to the venue for entry.
URL:https://newyork.cisvusa.org/event/2024-summer-programs-information-session/
LOCATION:Mercy University Manhattan\, 47 West 34th Street\, New York\, NY\, 10001\, United States
ATTACH;FMTTYPE=image/jpeg:https://newyork.cisvusa.org/wp-content/uploads/sites/5/2018/03/CISV_Village_Denmark_2013_Beth_Zink_0002-scaled.jpg
END:VEVENT
END:VCALENDAR