BEGIN:VCALENDAR
VERSION:2.0
PRODID:-//New York - ECPv6.15.20//NONSGML v1.0//EN
CALSCALE:GREGORIAN
METHOD:PUBLISH
X-WR-CALNAME:New York
X-ORIGINAL-URL:https://newyork.cisvusa.org
X-WR-CALDESC:Events for New York
REFRESH-INTERVAL;VALUE=DURATION:PT1H
X-Robots-Tag:noindex
X-PUBLISHED-TTL:PT1H
BEGIN:VTIMEZONE
TZID:America/New_York
BEGIN:DAYLIGHT
TZOFFSETFROM:-0500
TZOFFSETTO:-0400
TZNAME:EDT
DTSTART:20170312T070000
END:DAYLIGHT
BEGIN:STANDARD
TZOFFSETFROM:-0400
TZOFFSETTO:-0500
TZNAME:EST
DTSTART:20171105T060000
END:STANDARD
BEGIN:DAYLIGHT
TZOFFSETFROM:-0500
TZOFFSETTO:-0400
TZNAME:EDT
DTSTART:20180311T070000
END:DAYLIGHT
BEGIN:STANDARD
TZOFFSETFROM:-0400
TZOFFSETTO:-0500
TZNAME:EST
DTSTART:20181104T060000
END:STANDARD
BEGIN:DAYLIGHT
TZOFFSETFROM:-0500
TZOFFSETTO:-0400
TZNAME:EDT
DTSTART:20190310T070000
END:DAYLIGHT
BEGIN:STANDARD
TZOFFSETFROM:-0400
TZOFFSETTO:-0500
TZNAME:EST
DTSTART:20191103T060000
END:STANDARD
BEGIN:DAYLIGHT
TZOFFSETFROM:-0500
TZOFFSETTO:-0400
TZNAME:EDT
DTSTART:20200308T070000
END:DAYLIGHT
BEGIN:STANDARD
TZOFFSETFROM:-0400
TZOFFSETTO:-0500
TZNAME:EST
DTSTART:20201101T060000
END:STANDARD
END:VTIMEZONE
BEGIN:VEVENT
DTSTART;TZID=America/New_York:20190315T183000
DTEND;TZID=America/New_York:20190315T210000
DTSTAMP:20260422T003501
CREATED:20190109T160258Z
LAST-MODIFIED:20190208T154858Z
UID:10000032-1552674600-1552683600@newyork.cisvusa.org
SUMMARY:CISV New York @ Human Rights Watch
DESCRIPTION:Join us for an evening of cocktails and good eats directly after mini-camp drop-off! Once the kids are on their way to a fun weekend of activities and bonding\, the adults of the chapter will mingle and enjoy a night out at the New York headquarters of Human Rights Watch in the Empire State Building\, generously donated by lifelong CISV’er and current chapter member Minky Worden. \nPlease note that this is an adult only event. \nRSVP here. \nContact chapter co-Vice Presidents Jenevieve Goldman and Nina Serven at jenevieveg@gmail.com and ninaserven@gmail.com with any inquiries.
URL:https://newyork.cisvusa.org/event/cisv-new-york-human-rights-watch/
LOCATION:Human Rights Watch Office\, 350 5th Ave.\, New York\, NY
ATTACH;FMTTYPE=image/jpeg:https://newyork.cisvusa.org/wp-content/uploads/sites/5/2019/01/empire-state-building.jpg
GEO:40.7484799;-73.9854245
X-APPLE-STRUCTURED-LOCATION;VALUE=URI;X-ADDRESS=Human Rights Watch Office 350 5th Ave. New York NY;X-APPLE-RADIUS=500;X-TITLE=350 5th Ave.:geo:-73.9854245,40.7484799
END:VEVENT
BEGIN:VEVENT
DTSTART;TZID=America/New_York:20180316T183000
DTEND;TZID=America/New_York:20180316T210000
DTSTAMP:20260422T003501
CREATED:20180306T231015Z
LAST-MODIFIED:20180306T231015Z
UID:10000018-1521225000-1521234000@newyork.cisvusa.org
SUMMARY:CISV NY @ Human Rights Watch
DESCRIPTION:Join us for an evening of cocktails and good eats directly after minicamp drop-off! Once the kids are on their way to a fun weekend of activities and bonding\, the adults of the chapter will mingle and enjoy a night out at the New York headquarters of Human Rights Watch in the Empire State Building\, generously donated by lifelong CISVer and current chapter member Minky Worden. \nPlease RSVP to this evite (http://evite.me/qA199v44ky) promptly and bring a State ID to be let into the building. All attendees must RSVP with their full legal names for security reasons. \nContact chapter co-Vice Presidents Jenevieve Goldman and Nina Serven at jenevieveg@gmail.com and ninaserven@gmail.com with any inquiries.
URL:https://newyork.cisvusa.org/event/cisv-ny-human-rights-watch/
LOCATION:Human Rights Watch Office\, 350 5th Ave.\, New York\, NY
CATEGORIES:Free
ATTACH;FMTTYPE=image/png:https://newyork.cisvusa.org/wp-content/uploads/sites/5/2018/03/HRW.png
GEO:40.7484799;-73.9854245
X-APPLE-STRUCTURED-LOCATION;VALUE=URI;X-ADDRESS=Human Rights Watch Office 350 5th Ave. New York NY;X-APPLE-RADIUS=500;X-TITLE=350 5th Ave.:geo:-73.9854245,40.7484799
END:VEVENT
END:VCALENDAR