BEGIN:VCALENDAR
VERSION:2.0
PRODID:-//New York - ECPv6.15.20//NONSGML v1.0//EN
CALSCALE:GREGORIAN
METHOD:PUBLISH
X-WR-CALNAME:New York
X-ORIGINAL-URL:https://newyork.cisvusa.org
X-WR-CALDESC:Events for New York
REFRESH-INTERVAL;VALUE=DURATION:PT1H
X-Robots-Tag:noindex
X-PUBLISHED-TTL:PT1H
BEGIN:VTIMEZONE
TZID:America/New_York
BEGIN:DAYLIGHT
TZOFFSETFROM:-0500
TZOFFSETTO:-0400
TZNAME:EDT
DTSTART:20220313T070000
END:DAYLIGHT
BEGIN:STANDARD
TZOFFSETFROM:-0400
TZOFFSETTO:-0500
TZNAME:EST
DTSTART:20221106T060000
END:STANDARD
BEGIN:DAYLIGHT
TZOFFSETFROM:-0500
TZOFFSETTO:-0400
TZNAME:EDT
DTSTART:20230312T070000
END:DAYLIGHT
BEGIN:STANDARD
TZOFFSETFROM:-0400
TZOFFSETTO:-0500
TZNAME:EST
DTSTART:20231105T060000
END:STANDARD
BEGIN:DAYLIGHT
TZOFFSETFROM:-0500
TZOFFSETTO:-0400
TZNAME:EDT
DTSTART:20240310T070000
END:DAYLIGHT
BEGIN:STANDARD
TZOFFSETFROM:-0400
TZOFFSETTO:-0500
TZNAME:EST
DTSTART:20241103T060000
END:STANDARD
END:VTIMEZONE
BEGIN:VEVENT
DTSTART;TZID=America/New_York:20230923T090000
DTEND;TZID=America/New_York:20230923T120000
DTSTAMP:20260423T073957
CREATED:20230815T225350Z
LAST-MODIFIED:20230918T014509Z
UID:10000006-1695459600-1695470400@newyork.cisvusa.org
SUMMARY:Community Service at Grassroots Grocery
DESCRIPTION:Mark your calendar for a family-friendly Produce Party in the Bronx with our friends at Grassroots Grocery. \nWe will meet at 1315 Olmstead Avenue\, Bronx from 9am to 12pm to learn about Grassroots Grocery\, work together to sort and pack 10\,000+ lbs of unused rescued produce\, and (if you have a car) make a produce delivery to a preassigned community site where the produce will be delivered to neighbors in need. \nSIGN UP HERE\nYour services as a food packer or a driver (OR BOTH) will be incredibly helpful. \nPlease sign up to be a packer AND a driver if you can — we need 30 drivers! \nDrivers will receive their assignments a few days prior to the party. \nFeel free to invite anyone (outside CISV) that you think may be interested. This event is child-friendly. Everyone can help! \nHope to see everyone at the CISV NY + Grassroots Grocery Produce Party!
URL:https://newyork.cisvusa.org/event/community-service-at-grassroots-grocery/
LOCATION:Grassroots Grocery – Gun Hill Commons\, 1750 East Gun Hill Road\, Bronx\, NY\, 10469\, United States
END:VEVENT
END:VCALENDAR