BEGIN:VCALENDAR
VERSION:2.0
PRODID:-//New York - ECPv6.15.20//NONSGML v1.0//EN
CALSCALE:GREGORIAN
METHOD:PUBLISH
X-WR-CALNAME:New York
X-ORIGINAL-URL:https://newyork.cisvusa.org
X-WR-CALDESC:Events for New York
REFRESH-INTERVAL;VALUE=DURATION:PT1H
X-Robots-Tag:noindex
X-PUBLISHED-TTL:PT1H
BEGIN:VTIMEZONE
TZID:America/New_York
BEGIN:DAYLIGHT
TZOFFSETFROM:-0500
TZOFFSETTO:-0400
TZNAME:EDT
DTSTART:20210314T070000
END:DAYLIGHT
BEGIN:STANDARD
TZOFFSETFROM:-0400
TZOFFSETTO:-0500
TZNAME:EST
DTSTART:20211107T060000
END:STANDARD
BEGIN:DAYLIGHT
TZOFFSETFROM:-0500
TZOFFSETTO:-0400
TZNAME:EDT
DTSTART:20220313T070000
END:DAYLIGHT
BEGIN:STANDARD
TZOFFSETFROM:-0400
TZOFFSETTO:-0500
TZNAME:EST
DTSTART:20221106T060000
END:STANDARD
BEGIN:DAYLIGHT
TZOFFSETFROM:-0500
TZOFFSETTO:-0400
TZNAME:EDT
DTSTART:20230312T070000
END:DAYLIGHT
BEGIN:STANDARD
TZOFFSETFROM:-0400
TZOFFSETTO:-0500
TZNAME:EST
DTSTART:20231105T060000
END:STANDARD
BEGIN:DAYLIGHT
TZOFFSETFROM:-0500
TZOFFSETTO:-0400
TZNAME:EDT
DTSTART:20240310T070000
END:DAYLIGHT
BEGIN:STANDARD
TZOFFSETFROM:-0400
TZOFFSETTO:-0500
TZNAME:EST
DTSTART:20241103T060000
END:STANDARD
BEGIN:DAYLIGHT
TZOFFSETFROM:-0500
TZOFFSETTO:-0400
TZNAME:EDT
DTSTART:20250309T070000
END:DAYLIGHT
BEGIN:STANDARD
TZOFFSETFROM:-0400
TZOFFSETTO:-0500
TZNAME:EST
DTSTART:20251102T060000
END:STANDARD
END:VTIMEZONE
BEGIN:VEVENT
DTSTART;TZID=America/New_York:20240330T120000
DTEND;TZID=America/New_York:20240330T150000
DTSTAMP:20260423T144623
CREATED:20240316T195629Z
LAST-MODIFIED:20240325T233544Z
UID:10000076-1711800000-1711810800@newyork.cisvusa.org
SUMMARY:Spring Picnic
DESCRIPTION:Come one\, come all to our Spring Picnic at Central Park! It’s a perfect opportunity to connect with our community\, make new friends\, and enjoy the beauty of the season. \nDate: Saturday\, March 30\, 2024 \nTime: 12pm to 3pm \nLocation: Central Park\, near the “Pool” – a grass area near a pond accessible via the park’s West 100th St. entrance \nPlease bring along your favorite picnic fare\, snacks\, and beverages to enjoy with your group – and feel free to bring extra to share with others! \nAs you arrive\, look for us near the West 100th Street entrance of Central Park. We’ll be nestled in a serene spot close to the enchanting waters of the “Pool” (which is really a POND). \nTo help us plan for the event\, please RSVP using the orange button on this page to give us an idea of how many people are coming. \nFor more information and updates\, keep an eye on our Instagram account or reach out to newyork@cisvusa.org. \nLet’s start the season off right and make some wonderful memories together at our Spring Picnic! \n \nNear the West 100th Street entrance to Central Park is a somewhat secluded landscape featuring a small water body known as the Pool. Credit: https://www.centralparknyc.org/
URL:https://newyork.cisvusa.org/event/2024-spring-picnic/
LOCATION:Grass area near the “Pool” pond at Central Park\, W 100th Street entrance to Central Park\, New York\, NY\, United States
END:VEVENT
BEGIN:VEVENT
DTSTART;TZID=America/New_York:20230909T120000
DTEND;TZID=America/New_York:20230909T160000
DTSTAMP:20260423T144623
CREATED:20230815T035550Z
LAST-MODIFIED:20230823T181855Z
UID:10000004-1694260800-1694275200@newyork.cisvusa.org
SUMMARY:Welcome! Picnic
DESCRIPTION:Join us for a Welcome! Picnic as we begin the 2023-2024 year for CISV NY! \nWe will meet at Central Park on a grass area near the “Pool”\, a small lake accessible via the park’s West 100th St. entrance. \nNew families — Come meet current families whose kids have participated in programs and learn more. \nCurrent families — See old friends and share your experience with new members. \nOld families — Rejoin the chapter and have fun. \nPlease bring your own food/snacks and drinks for your party — and to share if you’d like! \n \nNear the West 100th Street entrance to Central Park is a somewhat secluded landscape featuring a small water body known as the Pool. Credit: https://www.centralparknyc.org/
URL:https://newyork.cisvusa.org/event/welcome-picnic/
LOCATION:Grass area near the “Pool” pond at Central Park\, W 100th Street entrance to Central Park\, New York\, NY\, United States
END:VEVENT
BEGIN:VEVENT
DTSTART;TZID=America/New_York:20221002T120000
DTEND;TZID=America/New_York:20221002T160000
DTSTAMP:20260423T144623
CREATED:20180503T183334Z
LAST-MODIFIED:20220815T144909Z
UID:10000023-1664712000-1664726400@newyork.cisvusa.org
SUMMARY:Welcome Back Potluck Picnic
DESCRIPTION:The Annual Welcome Back potluck picnic will be held Sunday\, October 2nd between 12 noon to 4 pm at Central Park Great Hill North picnic area. You can enter on the west side and 106th Street. At the Welcome Back Party you will hear our delegates talk all about their amazing experiences this summer\, and you can reconnect with your friends and families. Bring a guest – all are invited! \nWhat to bring to the Potluck:\n\nStep Up bring napkins\, plates and plastic utensils\nVillage bring a entree\nJCs\, Seminar and Youth Camp bring dessert\nMosaic bring beverages & cups\n\nEveryone\, please bring a picnic blanket and CISV Spirit!!!!
URL:https://newyork.cisvusa.org/event/welcome-back-picnic/
LOCATION:Grass area near the “Pool” pond at Central Park\, W 100th Street entrance to Central Park\, New York\, NY\, United States
ATTACH;FMTTYPE=image/jpeg:https://newyork.cisvusa.org/wp-content/uploads/sites/5/2018/03/aboutUs2.jpg
END:VEVENT
END:VCALENDAR