BEGIN:VCALENDAR
VERSION:2.0
PRODID:-//New York - ECPv6.15.20//NONSGML v1.0//EN
CALSCALE:GREGORIAN
METHOD:PUBLISH
X-WR-CALNAME:New York
X-ORIGINAL-URL:https://newyork.cisvusa.org
X-WR-CALDESC:Events for New York
REFRESH-INTERVAL;VALUE=DURATION:PT1H
X-Robots-Tag:noindex
X-PUBLISHED-TTL:PT1H
BEGIN:VTIMEZONE
TZID:America/New_York
BEGIN:DAYLIGHT
TZOFFSETFROM:-0500
TZOFFSETTO:-0400
TZNAME:EDT
DTSTART:20170312T070000
END:DAYLIGHT
BEGIN:STANDARD
TZOFFSETFROM:-0400
TZOFFSETTO:-0500
TZNAME:EST
DTSTART:20171105T060000
END:STANDARD
BEGIN:DAYLIGHT
TZOFFSETFROM:-0500
TZOFFSETTO:-0400
TZNAME:EDT
DTSTART:20180311T070000
END:DAYLIGHT
BEGIN:STANDARD
TZOFFSETFROM:-0400
TZOFFSETTO:-0500
TZNAME:EST
DTSTART:20181104T060000
END:STANDARD
BEGIN:DAYLIGHT
TZOFFSETFROM:-0500
TZOFFSETTO:-0400
TZNAME:EDT
DTSTART:20190310T070000
END:DAYLIGHT
BEGIN:STANDARD
TZOFFSETFROM:-0400
TZOFFSETTO:-0500
TZNAME:EST
DTSTART:20191103T060000
END:STANDARD
BEGIN:DAYLIGHT
TZOFFSETFROM:-0500
TZOFFSETTO:-0400
TZNAME:EDT
DTSTART:20200308T070000
END:DAYLIGHT
BEGIN:STANDARD
TZOFFSETFROM:-0400
TZOFFSETTO:-0500
TZNAME:EST
DTSTART:20201101T060000
END:STANDARD
BEGIN:DAYLIGHT
TZOFFSETFROM:-0500
TZOFFSETTO:-0400
TZNAME:EDT
DTSTART:20210314T070000
END:DAYLIGHT
BEGIN:STANDARD
TZOFFSETFROM:-0400
TZOFFSETTO:-0500
TZNAME:EST
DTSTART:20211107T060000
END:STANDARD
BEGIN:DAYLIGHT
TZOFFSETFROM:-0500
TZOFFSETTO:-0400
TZNAME:EDT
DTSTART:20220313T070000
END:DAYLIGHT
BEGIN:STANDARD
TZOFFSETFROM:-0400
TZOFFSETTO:-0500
TZNAME:EST
DTSTART:20221106T060000
END:STANDARD
END:VTIMEZONE
BEGIN:VEVENT
DTSTART;TZID=America/New_York:20210515T110000
DTEND;TZID=America/New_York:20210515T120000
DTSTAMP:20260420T113711
CREATED:20210407T134648Z
LAST-MODIFIED:20210430T201637Z
UID:10000045-1621076400-1621080000@newyork.cisvusa.org
SUMMARY:Mosaic Program Information Session (Virtual)
DESCRIPTION:Join our virtual Information Session to learn about CISV\, our New York Chapter and our successful domestic program: Mosaic which is a free one-week overnight camp for 11 and 12-year-olds. \nRegister in advance for this meeting:\nhttps://us02web.zoom.us/meeting/register/tZ0vdOCprzMpHdzd_6UFcn0eqaqApNy-19QD\n\nAfter registering\, you will receive a confirmation email containing information about joining the meeting.\n\nHere are some questions you might find answers to: \n\nWhat is CISV?\nWhy and how was CISV founded? When?\nWhat is Mosaic?\nAre there any financial aid or payment plan available?\nSounds great…What are the next steps for us to be a part of it?
URL:https://newyork.cisvusa.org/event/mosaic-program-information-session-virtual/
LOCATION:Virtual\, A Zoom link will be provided to those who RSVP.
ATTACH;FMTTYPE=image/jpeg:https://newyork.cisvusa.org/wp-content/uploads/sites/5/2018/03/MG_67531200x480-e1618349075186.jpg
END:VEVENT
BEGIN:VEVENT
DTSTART;TZID=America/New_York:20180421T133000
DTEND;TZID=America/New_York:20180421T160000
DTSTAMP:20260420T113711
CREATED:20180309T221335Z
LAST-MODIFIED:20180316T154310Z
UID:10000019-1524317400-1524326400@newyork.cisvusa.org
SUMMARY:Mosaic FACES of NEW YORK Information And Interview Session
DESCRIPTION:A Unique Free Summer Opportunity for 11 and 12 Year Olds \n \n30 campers\, also called delegates\, will be selected to represent diverse groups within the metropolitan area based on CISV criteria. Eligible children and their families will need to complete an application form and attend an information & interview session to be considered. \nA parent or guardian should attend the Info & Interview Session with their child.  Please fill out an application form before the Session.  Applicants are considered on a first come basis. \nClick to RSVP for the Info and Interview Session. \n 
URL:https://newyork.cisvusa.org/event/mosaic-faces-of-new-york-information-interview-session/
LOCATION:Community House\, 28 East 35th Street\, Manhattan\, NY
CATEGORIES:Free,Information & Interview Session
GEO:40.7479601;-73.9818666
X-APPLE-STRUCTURED-LOCATION;VALUE=URI;X-ADDRESS=Community House 28 East 35th Street Manhattan NY;X-APPLE-RADIUS=500;X-TITLE=28 East 35th Street:geo:-73.9818666,40.7479601
END:VEVENT
END:VCALENDAR