BEGIN:VCALENDAR
VERSION:2.0
PRODID:-//New York - ECPv6.15.20//NONSGML v1.0//EN
CALSCALE:GREGORIAN
METHOD:PUBLISH
X-WR-CALNAME:New York
X-ORIGINAL-URL:https://newyork.cisvusa.org
X-WR-CALDESC:Events for New York
REFRESH-INTERVAL;VALUE=DURATION:PT1H
X-Robots-Tag:noindex
X-PUBLISHED-TTL:PT1H
BEGIN:VTIMEZONE
TZID:America/New_York
BEGIN:DAYLIGHT
TZOFFSETFROM:-0500
TZOFFSETTO:-0400
TZNAME:EDT
DTSTART:20170312T070000
END:DAYLIGHT
BEGIN:STANDARD
TZOFFSETFROM:-0400
TZOFFSETTO:-0500
TZNAME:EST
DTSTART:20171105T060000
END:STANDARD
BEGIN:DAYLIGHT
TZOFFSETFROM:-0500
TZOFFSETTO:-0400
TZNAME:EDT
DTSTART:20180311T070000
END:DAYLIGHT
BEGIN:STANDARD
TZOFFSETFROM:-0400
TZOFFSETTO:-0500
TZNAME:EST
DTSTART:20181104T060000
END:STANDARD
BEGIN:DAYLIGHT
TZOFFSETFROM:-0500
TZOFFSETTO:-0400
TZNAME:EDT
DTSTART:20190310T070000
END:DAYLIGHT
BEGIN:STANDARD
TZOFFSETFROM:-0400
TZOFFSETTO:-0500
TZNAME:EST
DTSTART:20191103T060000
END:STANDARD
END:VTIMEZONE
BEGIN:VEVENT
DTSTART;TZID=America/New_York:20180519T130000
DTEND;TZID=America/New_York:20180519T163000
DTSTAMP:20260422T104932
CREATED:20180426T155246Z
LAST-MODIFIED:20180426T155606Z
UID:10000022-1526734800-1526747400@newyork.cisvusa.org
SUMMARY:JB Event: Sustainability Wars @ Central Park
DESCRIPTION:Join us for our first annual sustainability event in honor of earth day this past April! We will be running a sustainability color wars\, where four teams will be battling it out in a series of fun games with their team that focus on sustaining a healthy and happy earth. \nWhen? May 19\, 1:00pm-4:30pm \nWhere? Great Hill North picnic area in Central Park\, Manhattan \nWho? You! Any JB kids! \nWhat do I bring? sunscreen\, a water bottle\, snacks if you wish! \nThis is a free event\, but donations to our scholarship fund are always welcome! \n**ANY KIDS UNDER 15 WILL NEED TO BE ACCOMPANIED BY SOMEONE 15-OLDER** \n*There will be small snacks provided by JB* \nRSVP: BEFORE MAY 19th via email:Jjarencio03@gmail.com so that we know how many people are coming.
URL:https://newyork.cisvusa.org/event/504/
LOCATION:Central Park\, Q2WX+XHW\, New York\, NY\, 10029\, United States
ATTACH;FMTTYPE=image/png:https://newyork.cisvusa.org/wp-content/uploads/sites/5/2018/04/JB-Event.png
ORGANIZER;CN="Jade Jarencio":MAILTO:Jjarencio03@gmail.com
END:VEVENT
END:VCALENDAR