BEGIN:VCALENDAR
VERSION:2.0
PRODID:-//New York - ECPv6.15.20//NONSGML v1.0//EN
CALSCALE:GREGORIAN
METHOD:PUBLISH
X-WR-CALNAME:New York
X-ORIGINAL-URL:https://newyork.cisvusa.org
X-WR-CALDESC:Events for New York
REFRESH-INTERVAL;VALUE=DURATION:PT1H
X-Robots-Tag:noindex
X-PUBLISHED-TTL:PT1H
BEGIN:VTIMEZONE
TZID:America/New_York
BEGIN:DAYLIGHT
TZOFFSETFROM:-0500
TZOFFSETTO:-0400
TZNAME:EDT
DTSTART:20250309T070000
END:DAYLIGHT
BEGIN:STANDARD
TZOFFSETFROM:-0400
TZOFFSETTO:-0500
TZNAME:EST
DTSTART:20251102T060000
END:STANDARD
BEGIN:DAYLIGHT
TZOFFSETFROM:-0500
TZOFFSETTO:-0400
TZNAME:EDT
DTSTART:20260308T070000
END:DAYLIGHT
BEGIN:STANDARD
TZOFFSETFROM:-0400
TZOFFSETTO:-0500
TZNAME:EST
DTSTART:20261101T060000
END:STANDARD
BEGIN:DAYLIGHT
TZOFFSETFROM:-0500
TZOFFSETTO:-0400
TZNAME:EDT
DTSTART:20270314T070000
END:DAYLIGHT
BEGIN:STANDARD
TZOFFSETFROM:-0400
TZOFFSETTO:-0500
TZNAME:EST
DTSTART:20271107T060000
END:STANDARD
END:VTIMEZONE
BEGIN:VEVENT
DTSTART;TZID=America/New_York:20260308T130000
DTEND;TZID=America/New_York:20260308T160000
DTSTAMP:20260421T231347
CREATED:20250121T190744Z
LAST-MODIFIED:20260305T161629Z
UID:10000104-1772974800-1772985600@newyork.cisvusa.org
SUMMARY:CISV Delegate Family Orientation
DESCRIPTION:Family Orientation is an opportunity for CISV NY parents and delegates to connect\, learn more about the program\, and prepare for their exciting adventure ahead. \nDate: Sunday\, March 8\, 2026\nTime: 1:00 PM – 4:00 PM\nLocation: 339 West 24th street (between 8th Ave & 9th Ave) \nAttendance is mandatory for all program delegates and their families. Only one parent is required to attend\, but both are welcome. Please plan to stay for the full duration of the event. Light refreshments will be provided. \nFor Delegates: \nDelegates will get to know their leaders and fellow delegation members\, and participate in a Q&A session with members of the Junior Branch (JB) and experienced CISVers. \nFor Parents: \nParents will attend a brief orientation covering what to expect in the coming months\, including delegation meetups\, parents responsibilities\, forms and deadlines\, followed by a Q&A session to address any specific questions.  \nParents will have the opportunity to meet with their delegation group\, choose dates for delegation meetups\, and connect with their delegation leader. If a leader has not yet been assigned\, a CISV NY board member will assist your group to get set up for success.. \nIf you have any questions\, please don’t hesitate to contact us at programschairny@cisvusa.org \nWe look forward to seeing you there! 
URL:https://newyork.cisvusa.org/event/international-programs-orientation/
LOCATION:339 West 24th street (between 8th Ave & 9th Ave)\, 339 West 24th street (between 8th Ave & 9th Ave)\, NY\, NY
END:VEVENT
BEGIN:VEVENT
DTSTART;TZID=America/New_York:20260315T130000
DTEND;TZID=America/New_York:20260315T150000
DTSTAMP:20260421T231347
CREATED:20260209T155549Z
LAST-MODIFIED:20260311T031103Z
UID:10000143-1773579600-1773586800@newyork.cisvusa.org
SUMMARY:Junior Branch Scavenger Hunt
DESCRIPTION:Join CISV NY’s Junior Branch (JB) for a scavenger hunt! It’s an afternoon full of fun\, challenging teamwork activities led by the JB. It will be held on Little Island in Manhattan. Join us to meet new friends\, collaborate and spread the joy of CISV!.  \nThis community experience is proudly planned and led by the CISV New York Junior Branch Board (JB). Open to all CISV members\, their families and friends. Looking forward to seeing you there – Click RSVP button above! \n Venue: Little Island \nAddress: Pier 55 in Hudson River Park at W 13th St \nMeeting Place: Main Entrance Plaza (West 13th Street entrance) \nContact jbny@cisvusa.org for questions or concerns
URL:https://newyork.cisvusa.org/event/junior-branch-scavenger-hunt/
LOCATION:Little Island\, Pier 55 in Hudson River Park at W 13th St\, New York\, NY
END:VEVENT
BEGIN:VEVENT
DTSTART;TZID=America/New_York:20260328T103000
DTEND;TZID=America/New_York:20260328T113000
DTSTAMP:20260421T231347
CREATED:20260312T170903Z
LAST-MODIFIED:20260312T171257Z
UID:10000144-1774693800-1774697400@newyork.cisvusa.org
SUMMARY:Mosaic Faces of NY Camp Info Session - Virtual
DESCRIPTION:CISV’s Mosaic – Faces of NY Camp is a unique summer opportunity for 11- and 12-year-olds from the tri-state area. The camp brings CISV’s values of human rights education and global friendship home to our own community — a one-week overnight camp that provides a fun and safe environment for children to learn what it means to be a global citizen and live harmoniously with others\, sharing resources and ideas. \nJoin the virtual info session for Mosaic Faces of NY: \nDate: Saturday\, March 28\nTime: 10:30am to 11:30am \nPlease RSVP HERE.\nThis year\, Faces of NY will run from Aug. 9 to Aug. 15 at a campsite in Hopewell Junction\, NY. If you already know that your child would like to attend\, you may apply now. \nRead more about the camp here: \nMosaic Faces of NY \n \nPhase 1 application deadline is April 26th.
URL:https://newyork.cisvusa.org/event/mosaic-faces-of-ny-camp-info-session-2026/
LOCATION:Virtual\, A Zoom link will be provided to those who RSVP.
END:VEVENT
END:VCALENDAR