BEGIN:VCALENDAR
VERSION:2.0
PRODID:-//New York - ECPv6.15.20//NONSGML v1.0//EN
CALSCALE:GREGORIAN
METHOD:PUBLISH
X-WR-CALNAME:New York
X-ORIGINAL-URL:https://newyork.cisvusa.org
X-WR-CALDESC:Events for New York
REFRESH-INTERVAL;VALUE=DURATION:PT1H
X-Robots-Tag:noindex
X-PUBLISHED-TTL:PT1H
BEGIN:VTIMEZONE
TZID:America/New_York
BEGIN:DAYLIGHT
TZOFFSETFROM:-0500
TZOFFSETTO:-0400
TZNAME:EDT
DTSTART:20250309T070000
END:DAYLIGHT
BEGIN:STANDARD
TZOFFSETFROM:-0400
TZOFFSETTO:-0500
TZNAME:EST
DTSTART:20251102T060000
END:STANDARD
BEGIN:DAYLIGHT
TZOFFSETFROM:-0500
TZOFFSETTO:-0400
TZNAME:EDT
DTSTART:20260308T070000
END:DAYLIGHT
BEGIN:STANDARD
TZOFFSETFROM:-0400
TZOFFSETTO:-0500
TZNAME:EST
DTSTART:20261101T060000
END:STANDARD
BEGIN:DAYLIGHT
TZOFFSETFROM:-0500
TZOFFSETTO:-0400
TZNAME:EDT
DTSTART:20270314T070000
END:DAYLIGHT
BEGIN:STANDARD
TZOFFSETFROM:-0400
TZOFFSETTO:-0500
TZNAME:EST
DTSTART:20271107T060000
END:STANDARD
END:VTIMEZONE
BEGIN:VEVENT
DTSTART;TZID=America/New_York:20260215T140000
DTEND;TZID=America/New_York:20260215T163000
DTSTAMP:20260421T173155
CREATED:20251107T143446Z
LAST-MODIFIED:20260201T010910Z
UID:10000138-1771164000-1771173000@newyork.cisvusa.org
SUMMARY:Junior Branch's Movie Day
DESCRIPTION:🌿 Join CISV New York Junior Branch on this Special Movie Day! 🌎 \nLocation: Regal Cinemas Times Square: 247 W 42nd St\, New York\, NY 10036\nOn Sunday\, February 15th\, the CISV New York Junior Branch (JB) is hosting a movie day—and it doubles as an easy\, “fun”raiser!CISV New York has an exciting fundraising partnership with Regal Cinemas. When you purchase a Regal Movie Ticket Bundle\, 25% of the purchase is donated directly back to CISV New York.\nWe’ll be watching GOAT\, which is playing at 2:20 PM. Anyone joining the activity is encouraged to meet up at 2:00 PM so we can head in together and enjoy the experience as a group. Friends and family are absolutely welcome—bring anyone who wants to see a great movie and support CISV NY at the same time!\n\nPurchase your Regal Movie Ticket Bundle using our CISV fundraising link: http://grouprai.se/regalcinemas69764m\nRedeem your tickets online or in-store at ANY Regal location\nOn February 15th\, meet the group at 2:00 PM and enjoy GOAT together at 2:20 PM\nPlease note: The Regal fundraising partnership runs through April 5—so even if you can’t join us on the 15th\, you can still purchase ticket bundles and donate 25% back to CISV New York by seeing other movies before then.\n\nPlease RSVP to let us know if you’ll be there! Have your tickets ready!\nThank you for supporting CISV New York and helping us reach our fundraising goal. Grab some popcorn\, enjoy the show\, and feel good knowing your movie night is making a difference! Questions? Reach out to the CISV New York Junior Board at jbny@cisvusa.org for questions anytime.
URL:https://newyork.cisvusa.org/event/junior-branch-movie-day/
LOCATION:Regal Cinemas\, 247 W 42nd St\, New York\, NY\, 10036\, United States
ATTACH;FMTTYPE=image/jpeg:https://newyork.cisvusa.org/wp-content/uploads/sites/5/2025/11/CISV-NY-Mosaic-1-e1763254031400.jpg
ORGANIZER;CN="Junior Board":MAILTO:jbny@cisvusa.org
END:VEVENT
END:VCALENDAR