BEGIN:VCALENDAR
VERSION:2.0
PRODID:-//New York - ECPv6.15.20//NONSGML v1.0//EN
CALSCALE:GREGORIAN
METHOD:PUBLISH
X-WR-CALNAME:New York
X-ORIGINAL-URL:https://newyork.cisvusa.org
X-WR-CALDESC:Events for New York
REFRESH-INTERVAL;VALUE=DURATION:PT1H
X-Robots-Tag:noindex
X-PUBLISHED-TTL:PT1H
BEGIN:VTIMEZONE
TZID:America/New_York
BEGIN:DAYLIGHT
TZOFFSETFROM:-0500
TZOFFSETTO:-0400
TZNAME:EDT
DTSTART:20240310T070000
END:DAYLIGHT
BEGIN:STANDARD
TZOFFSETFROM:-0400
TZOFFSETTO:-0500
TZNAME:EST
DTSTART:20241103T060000
END:STANDARD
BEGIN:DAYLIGHT
TZOFFSETFROM:-0500
TZOFFSETTO:-0400
TZNAME:EDT
DTSTART:20250309T070000
END:DAYLIGHT
BEGIN:STANDARD
TZOFFSETFROM:-0400
TZOFFSETTO:-0500
TZNAME:EST
DTSTART:20251102T060000
END:STANDARD
BEGIN:DAYLIGHT
TZOFFSETFROM:-0500
TZOFFSETTO:-0400
TZNAME:EDT
DTSTART:20260308T070000
END:DAYLIGHT
BEGIN:STANDARD
TZOFFSETFROM:-0400
TZOFFSETTO:-0500
TZNAME:EST
DTSTART:20261101T060000
END:STANDARD
END:VTIMEZONE
BEGIN:VEVENT
DTSTART;TZID=America/New_York:20250920T120000
DTEND;TZID=America/New_York:20250920T160000
DTSTAMP:20260425T223309
CREATED:20240823T145057Z
LAST-MODIFIED:20250907T020450Z
UID:10000096-1758369600-1758384000@newyork.cisvusa.org
SUMMARY:Chapter Meeting and Picnic
DESCRIPTION:Join us for the kick-off event to launch the 2025-26 season of CISV New York! The event will feature a Chapter Meeting and a picnic. \nWe will meet at Central Park\, specifically in a grassy area near the Charles A. Dana Discovery Center and Harlem Meer Lake\, located at the northeast corner of the park at 110th St and 5th Ave. \nWe invite everyone to join us! Both new and returning families are welcome to come and enjoy a great time together. We will also hold program debriefing meetings for all programs to discuss and review your experiences. \nPlease bring your own food\, snacks\, and drinks for your party\, and feel free to share as you wish!
URL:https://newyork.cisvusa.org/event/chapter-meeting-and-picnic/
LOCATION:Central Park\, Q2WX+XHW\, New York\, NY\, 10029\, United States
END:VEVENT
END:VCALENDAR